BEGIN:VCALENDAR
VERSION:2.0
PRODID:-//Raglan Primary School - ECPv6.2.5//NONSGML v1.0//EN
CALSCALE:GREGORIAN
METHOD:PUBLISH
X-ORIGINAL-URL:https://raglanprimary.school
X-WR-CALDESC:Events for Raglan Primary School
REFRESH-INTERVAL;VALUE=DURATION:PT1H
X-Robots-Tag:noindex
X-PUBLISHED-TTL:PT1H
BEGIN:VTIMEZONE
TZID:UTC
BEGIN:STANDARD
TZOFFSETFROM:+0000
TZOFFSETTO:+0000
TZNAME:UTC
DTSTART:20260101T000000
END:STANDARD
END:VTIMEZONE
BEGIN:VEVENT
DTSTART;VALUE=DATE:20260306
DTEND;VALUE=DATE:20260307
DTSTAMP:20260425T171004
CREATED:20250704T095612Z
LAST-MODIFIED:20250704T095955Z
UID:12251-1772755200-1772841599@raglanprimary.school
SUMMARY:Dolphins Family Assembly
DESCRIPTION:
URL:https://raglanprimary.school/event/dolphins-family-assembly-4/
END:VEVENT
END:VCALENDAR